BEGIN:VCALENDAR
VERSION:2.0
PRODID:-//Saticoy Lemon Association - ECPv6.15.11//NONSGML v1.0//EN
CALSCALE:GREGORIAN
METHOD:PUBLISH
X-WR-CALNAME:Saticoy Lemon Association
X-ORIGINAL-URL:https://saticoylemon.com
X-WR-CALDESC:Events for Saticoy Lemon Association
REFRESH-INTERVAL;VALUE=DURATION:PT1H
X-Robots-Tag:noindex
X-PUBLISHED-TTL:PT1H
BEGIN:VTIMEZONE
TZID:UTC
BEGIN:STANDARD
TZOFFSETFROM:+0000
TZOFFSETTO:+0000
TZNAME:UTC
DTSTART:20250101T000000
END:STANDARD
END:VTIMEZONE
BEGIN:VEVENT
DTSTART;VALUE=DATE:20260219
DTEND;VALUE=DATE:20260220
DTSTAMP:20260424T094030
CREATED:20260114T181008Z
LAST-MODIFIED:20260114T184203Z
UID:814-1771459200-1771545599@saticoylemon.com
SUMMARY:D1 Early Season 2610010 First Advance Anticipated Check Date
DESCRIPTION:Anticipated check date only
URL:https://saticoylemon.com/event/d1-pre-season-2610000-first-advance-anticipated-check-date/
CATEGORIES:District 1
END:VEVENT
BEGIN:VEVENT
DTSTART;VALUE=DATE:20260228
DTEND;VALUE=DATE:20260301
DTSTAMP:20260424T094030
CREATED:20260114T180450Z
LAST-MODIFIED:20260114T180450Z
UID:821-1772236800-1772323199@saticoylemon.com
SUMMARY:End Receiving D1 Mid Pool 2610020
DESCRIPTION:District 1 Mid Season Pool 2610020 12/28/25 – 2/28/26
URL:https://saticoylemon.com/event/end-receiving-d1-mid-pool-2610020/
CATEGORIES:District 1
END:VEVENT
END:VCALENDAR