BEGIN:VCALENDAR
VERSION:2.0
PRODID:-//Saticoy Lemon Association - ECPv6.15.11//NONSGML v1.0//EN
CALSCALE:GREGORIAN
METHOD:PUBLISH
X-WR-CALNAME:Saticoy Lemon Association
X-ORIGINAL-URL:https://saticoylemon.com
X-WR-CALDESC:Events for Saticoy Lemon Association
REFRESH-INTERVAL;VALUE=DURATION:PT1H
X-Robots-Tag:noindex
X-PUBLISHED-TTL:PT1H
BEGIN:VTIMEZONE
TZID:UTC
BEGIN:STANDARD
TZOFFSETFROM:+0000
TZOFFSETTO:+0000
TZNAME:UTC
DTSTART:20250101T000000
END:STANDARD
END:VTIMEZONE
BEGIN:VEVENT
DTSTART;TZID=UTC:20260131T080000
DTEND;TZID=UTC:20260131T170000
DTSTAMP:20260421T190232
CREATED:20260114T175744Z
LAST-MODIFIED:20260114T175744Z
UID:954-1769846400-1769878800@saticoylemon.com
SUMMARY:End Receiving D3 Pool 2630004
DESCRIPTION:District 3 January Pool 2630003 12/28/25 – 1/31/26
URL:https://saticoylemon.com/event/end-receiving-d3-pool-2630004/
CATEGORIES:District 3
END:VEVENT
BEGIN:VEVENT
DTSTART;VALUE=DATE:20260219
DTEND;VALUE=DATE:20260220
DTSTAMP:20260421T190232
CREATED:20260114T181008Z
LAST-MODIFIED:20260114T184203Z
UID:814-1771459200-1771545599@saticoylemon.com
SUMMARY:D1 Early Season 2610010 First Advance Anticipated Check Date
DESCRIPTION:Anticipated check date only
URL:https://saticoylemon.com/event/d1-pre-season-2610000-first-advance-anticipated-check-date/
CATEGORIES:District 1
END:VEVENT
BEGIN:VEVENT
DTSTART;TZID=UTC:20260219T080000
DTEND;TZID=UTC:20260219T170000
DTSTAMP:20260421T190232
CREATED:20260114T175905Z
LAST-MODIFIED:20260114T175905Z
UID:948-1771488000-1771520400@saticoylemon.com
SUMMARY:D3 2630003 First Advance Anticipated Check Date
DESCRIPTION:Anticipated check date only
URL:https://saticoylemon.com/event/d3-2630003-first-advance-anticipated-check-date/
CATEGORIES:District 3
END:VEVENT
BEGIN:VEVENT
DTSTART;TZID=UTC:20260219T080000
DTEND;TZID=UTC:20260219T170000
DTSTAMP:20260421T190232
CREATED:20260114T182657Z
LAST-MODIFIED:20260114T191416Z
UID:906-1771488000-1771520400@saticoylemon.com
SUMMARY:D3 2630002 Final Anticipated Check Date
DESCRIPTION:Anticipated check date only
URL:https://saticoylemon.com/event/d3-2630002-final-advance-anticipated-check-date/
CATEGORIES:District 3
END:VEVENT
BEGIN:VEVENT
DTSTART;VALUE=DATE:20260228
DTEND;VALUE=DATE:20260301
DTSTAMP:20260421T190232
CREATED:20260114T180450Z
LAST-MODIFIED:20260114T180450Z
UID:821-1772236800-1772323199@saticoylemon.com
SUMMARY:End Receiving D1 Mid Pool 2610020
DESCRIPTION:District 1 Mid Season Pool 2610020 12/28/25 – 2/28/26
URL:https://saticoylemon.com/event/end-receiving-d1-mid-pool-2610020/
CATEGORIES:District 1
END:VEVENT
BEGIN:VEVENT
DTSTART;VALUE=DATE:20260228
DTEND;VALUE=DATE:20260301
DTSTAMP:20260421T190232
CREATED:20260114T181442Z
LAST-MODIFIED:20260114T181442Z
UID:854-1772236800-1772323199@saticoylemon.com
SUMMARY:End Receiving D2 Meyer Pool 2624401
DESCRIPTION:District 2 Myer Season Pool 1 2624401 10/26/25 – 2/28/26
URL:https://saticoylemon.com/event/end-receiving-d2-meyer-pool-2624401/
CATEGORIES:District 2,Meyers
END:VEVENT
BEGIN:VEVENT
DTSTART;VALUE=DATE:20260301
DTEND;VALUE=DATE:20260302
DTSTAMP:20260421T190232
CREATED:20260114T180422Z
LAST-MODIFIED:20260114T180422Z
UID:829-1772323200-1772409599@saticoylemon.com
SUMMARY:Begin Receiving D1 Late Pool 2610030
DESCRIPTION:District 1 late Season Pool 2610020 3/01/26 – 5/30/26
URL:https://saticoylemon.com/event/begin-receiving-d1-late-pool-2610030/
CATEGORIES:District 1
END:VEVENT
BEGIN:VEVENT
DTSTART;VALUE=DATE:20260301
DTEND;VALUE=DATE:20260302
DTSTAMP:20260421T190232
CREATED:20260114T182225Z
LAST-MODIFIED:20260114T185835Z
UID:862-1772323200-1772409599@saticoylemon.com
SUMMARY:Begin Receiving D2 Meyer Pool 2624402
DESCRIPTION:District 2 Meyer Season Pool 2 2624402 3/01/26 – 6/27/26
URL:https://saticoylemon.com/event/begin-receiving-d2-meyer-pool-2624402/
CATEGORIES:District 2,Meyers
END:VEVENT
BEGIN:VEVENT
DTSTART;VALUE=DATE:20260319
DTEND;VALUE=DATE:20260320
DTSTAMP:20260421T190232
CREATED:20260114T180606Z
LAST-MODIFIED:20260114T191910Z
UID:808-1773878400-1773964799@saticoylemon.com
SUMMARY:D1 Early Season 2610010 Final Anticipated Check Date
DESCRIPTION:Anticipated check date only
URL:https://saticoylemon.com/event/d1-pre-season-2610000-final-advance-anticipated-check-date/
CATEGORIES:District 1
END:VEVENT
BEGIN:VEVENT
DTSTART;TZID=UTC:20260319T080000
DTEND;TZID=UTC:20260319T170000
DTSTAMP:20260421T190232
CREATED:20260114T175710Z
LAST-MODIFIED:20260114T175710Z
UID:956-1773907200-1773939600@saticoylemon.com
SUMMARY:D3 2630004 First Advance Anticipated Check Date
DESCRIPTION:Anticipated check date only
URL:https://saticoylemon.com/event/d3-2630004-first-advance-anticipated-check-date/
CATEGORIES:District 3
END:VEVENT
BEGIN:VEVENT
DTSTART;TZID=UTC:20260416T080000
DTEND;TZID=UTC:20260416T170000
DTSTAMP:20260421T190232
CREATED:20260114T175841Z
LAST-MODIFIED:20260114T192129Z
UID:950-1776326400-1776358800@saticoylemon.com
SUMMARY:D3 2630003 Final Anticipated Check Date
DESCRIPTION:Anticipated check date only
URL:https://saticoylemon.com/event/d3-2630003-final-advance-anticipated-check-date/
CATEGORIES:District 3
END:VEVENT
BEGIN:VEVENT
DTSTART;TZID=UTC:20260416T080000
DTEND;TZID=UTC:20260416T170000
DTSTAMP:20260421T190232
CREATED:20260114T180341Z
LAST-MODIFIED:20260114T180341Z
UID:823-1776326400-1776358800@saticoylemon.com
SUMMARY:D1 Mid Season 2610020 First Advance Anticipated Check Date
DESCRIPTION:Anticipated check date only
URL:https://saticoylemon.com/event/d1-mid-season-2610020-first-advance-anticipated-check-date/
CATEGORIES:District 1
END:VEVENT
BEGIN:VEVENT
DTSTART;TZID=UTC:20260416T080000
DTEND;TZID=UTC:20260416T170000
DTSTAMP:20260421T190232
CREATED:20260114T183030Z
LAST-MODIFIED:20260114T183030Z
UID:857-1776326400-1776358800@saticoylemon.com
SUMMARY:D2 Season 2624401 Meyer First Advance Anticipated Check Date
DESCRIPTION:Anticipated check date only
URL:https://saticoylemon.com/event/d2-season-2624401-meyer-first-advance-anticipated-check-date/
CATEGORIES:District 2,Meyers
END:VEVENT
BEGIN:VEVENT
DTSTART;TZID=UTC:20260416T080000
DTEND;TZID=UTC:20260416T170000
DTSTAMP:20260421T190232
CREATED:20260114T190940Z
LAST-MODIFIED:20260114T190940Z
UID:1000-1776326400-1776358800@saticoylemon.com
SUMMARY:D3 2634404 First Advance Anticipated Check Date
DESCRIPTION:Anticipated check date only
URL:https://saticoylemon.com/event/d3-2634404-first-advance-anticipated-check-date/
CATEGORIES:District 3,Meyers
END:VEVENT
BEGIN:VEVENT
DTSTART;TZID=UTC:20260514T080000
DTEND;TZID=UTC:20260514T170000
DTSTAMP:20260421T190232
CREATED:20260114T181047Z
LAST-MODIFIED:20260114T181047Z
UID:841-1778745600-1778778000@saticoylemon.com
SUMMARY:D2 2620000 First Advance Anticipated Check Date
DESCRIPTION:Anticipated check date only
URL:https://saticoylemon.com/event/d2-2620000-first-advance-anticipated-check-date/
CATEGORIES:District 2
END:VEVENT
BEGIN:VEVENT
DTSTART;TZID=UTC:20260521T080000
DTEND;TZID=UTC:20260521T170000
DTSTAMP:20260421T190232
CREATED:20260114T174923Z
LAST-MODIFIED:20260114T190645Z
UID:859-1779350400-1779382800@saticoylemon.com
SUMMARY:D2 Season 2624401 Meyer Final Anticipated Check Date
DESCRIPTION:Anticipated check date only
URL:https://saticoylemon.com/event/d2-season-2624401-meyer-final-advance-anticipated-check-date/
CATEGORIES:District 2,Meyers
END:VEVENT
BEGIN:VEVENT
DTSTART;TZID=UTC:20260521T080000
DTEND;TZID=UTC:20260521T170000
DTSTAMP:20260421T190232
CREATED:20260114T180319Z
LAST-MODIFIED:20260114T192033Z
UID:825-1779350400-1779382800@saticoylemon.com
SUMMARY:D1 Mid Season 2610020 Final Anticipated Check Date
DESCRIPTION:Anticipated check date only
URL:https://saticoylemon.com/event/d1-mid-season-2610020-final-advance-anticipated-check-date/
CATEGORIES:District 1
END:VEVENT
BEGIN:VEVENT
DTSTART;VALUE=DATE:20260530
DTEND;VALUE=DATE:20260531
DTSTAMP:20260421T190232
CREATED:20260114T180221Z
LAST-MODIFIED:20260114T180221Z
UID:831-1780099200-1780185599@saticoylemon.com
SUMMARY:End Receiving D1 Late Pool 2610030
DESCRIPTION:District 1 late Season Pool 2610020 3/01/26 – 5/30/26
URL:https://saticoylemon.com/event/end-receiving-d1-late-pool-2610030/
CATEGORIES:District 1
END:VEVENT
BEGIN:VEVENT
DTSTART;TZID=UTC:20260618T080000
DTEND;TZID=UTC:20260618T170000
DTSTAMP:20260421T190232
CREATED:20260114T191042Z
LAST-MODIFIED:20260114T191042Z
UID:1002-1781769600-1781802000@saticoylemon.com
SUMMARY:D3 2634404 Second Advance Anticipated Check Date
DESCRIPTION:Anticipated check date only
URL:https://saticoylemon.com/event/d3-2634404-second-advance-anticipated-check-date/
CATEGORIES:District 3,Meyers
END:VEVENT
BEGIN:VEVENT
DTSTART;VALUE=DATE:20260627
DTEND;VALUE=DATE:20260628
DTSTAMP:20260421T190232
CREATED:20260114T182256Z
LAST-MODIFIED:20260114T185916Z
UID:865-1782518400-1782604799@saticoylemon.com
SUMMARY:End Receiving D2 Meyer Pool 2624402
DESCRIPTION:District 3 Myer Season Pool 2 2624402 3/01/26 – 6/27/26
URL:https://saticoylemon.com/event/end-receiving-d2-meyer-pool-2624402/
CATEGORIES:District 2,Meyers
END:VEVENT
BEGIN:VEVENT
DTSTART;VALUE=DATE:20260628
DTEND;VALUE=DATE:20260629
DTSTAMP:20260421T190232
CREATED:20260114T181909Z
LAST-MODIFIED:20260114T182036Z
UID:872-1782604800-1782691199@saticoylemon.com
SUMMARY:Begin Receiving D3 Meyer Pool 2624403
DESCRIPTION:District 2 Myer Season Pool 3 2624403 6/28/26 – 10/31/26
URL:https://saticoylemon.com/event/begin-receiving-d3-meyer-pool-2624403/
CATEGORIES:District 2,Meyers
END:VEVENT
BEGIN:VEVENT
DTSTART;TZID=UTC:20260716T080000
DTEND;TZID=UTC:20260716T170000
DTSTAMP:20260421T190232
CREATED:20260114T175414Z
LAST-MODIFIED:20260114T175414Z
UID:964-1784188800-1784221200@saticoylemon.com
SUMMARY:D9 2699999 First Advance Anticipated Check Date
DESCRIPTION:Anticipated check date only
URL:https://saticoylemon.com/event/d9-2699999-first-advance-anticipated-check-date/
CATEGORIES:District 9
END:VEVENT
BEGIN:VEVENT
DTSTART;TZID=UTC:20260716T080000
DTEND;TZID=UTC:20260716T170000
DTSTAMP:20260421T190232
CREATED:20260114T180139Z
LAST-MODIFIED:20260114T180139Z
UID:833-1784188800-1784221200@saticoylemon.com
SUMMARY:D1 Late 2610030 First Advance Anticipated Check Date
DESCRIPTION:Anticipated check date only
URL:https://saticoylemon.com/event/d1-late-2610030-first-advance-anticipated-check-date/
CATEGORIES:District 1
END:VEVENT
BEGIN:VEVENT
DTSTART;TZID=UTC:20260716T080000
DTEND;TZID=UTC:20260716T170000
DTSTAMP:20260421T190232
CREATED:20260114T183340Z
LAST-MODIFIED:20260114T183340Z
UID:843-1784188800-1784221200@saticoylemon.com
SUMMARY:D2 Season 2620000 Second Advance Anticipated Check Date
DESCRIPTION:Anticipated check date only
URL:https://saticoylemon.com/event/d2-season-2620000-second-advance-anticipated-check-date/
CATEGORIES:District 2
END:VEVENT
BEGIN:VEVENT
DTSTART;TZID=UTC:20260820T080000
DTEND;TZID=UTC:20260820T170000
DTSTAMP:20260421T190232
CREATED:20260114T180049Z
LAST-MODIFIED:20260114T192103Z
UID:835-1787212800-1787245200@saticoylemon.com
SUMMARY:D1 Late 2610030 Final Anticipated Check Date
DESCRIPTION:Anticipated check date only
URL:https://saticoylemon.com/event/d1-late-2610030-final-advance-anticipated-check-date/
CATEGORIES:District 1
END:VEVENT
BEGIN:VEVENT
DTSTART;TZID=UTC:20260820T080000
DTEND;TZID=UTC:20260820T170000
DTSTAMP:20260421T190232
CREATED:20260114T182531Z
LAST-MODIFIED:20260114T182531Z
UID:868-1787212800-1787245200@saticoylemon.com
SUMMARY:D2 2624402 Meyer First Advance Anticipated Check Date
DESCRIPTION:Anticipated check date only
URL:https://saticoylemon.com/event/d2-2624402-meyer-first-advance-anticipated-check-date/
CATEGORIES:District 2,Meyers
END:VEVENT
BEGIN:VEVENT
DTSTART;TZID=UTC:20260820T080000
DTEND;TZID=UTC:20260820T170000
DTSTAMP:20260421T190232
CREATED:20260114T191148Z
LAST-MODIFIED:20260114T191148Z
UID:1004-1787212800-1787245200@saticoylemon.com
SUMMARY:D3 2634404 Third Advance Anticipated Check Date
DESCRIPTION:Anticipated check date only
URL:https://saticoylemon.com/event/d3-2634404-third-advance-anticipated-check-date/
CATEGORIES:District 3,Meyers
END:VEVENT
BEGIN:VEVENT
DTSTART;TZID=UTC:20260917T080000
DTEND;TZID=UTC:20260917T170000
DTSTAMP:20260421T190232
CREATED:20260114T174805Z
LAST-MODIFIED:20260114T191847Z
UID:870-1789632000-1789664400@saticoylemon.com
SUMMARY:D2 2624402 Meyer Final Anticipated Check Date
DESCRIPTION:Anticipated check date only
URL:https://saticoylemon.com/event/d2-2624402-meyer-final-advance-anticipated-check-date/
CATEGORIES:District 2,Meyers
END:VEVENT
BEGIN:VEVENT
DTSTART;TZID=UTC:20260917T080000
DTEND;TZID=UTC:20260917T170000
DTSTAMP:20260421T190232
CREATED:20260114T175345Z
LAST-MODIFIED:20260114T175345Z
UID:966-1789632000-1789664400@saticoylemon.com
SUMMARY:D9 2699999 Second Advance Anticipated Check Date
DESCRIPTION:Anticipated check date only
URL:https://saticoylemon.com/event/d9-2699999-second-advance-anticipated-check-date/
CATEGORIES:District 9
END:VEVENT
BEGIN:VEVENT
DTSTART;TZID=UTC:20260917T080000
DTEND;TZID=UTC:20260917T170000
DTSTAMP:20260421T190232
CREATED:20260114T183249Z
LAST-MODIFIED:20260114T183249Z
UID:845-1789632000-1789664400@saticoylemon.com
SUMMARY:D2 Season 2620000 Third Advance Anticipated Check Date
DESCRIPTION:Anticipated check date only
URL:https://saticoylemon.com/event/d2-season-2620000-third-advance-anticipated-check-date/
CATEGORIES:District 2
END:VEVENT
END:VCALENDAR