BEGIN:VCALENDAR
VERSION:2.0
PRODID:-//Saticoy Lemon Association - ECPv6.15.11//NONSGML v1.0//EN
CALSCALE:GREGORIAN
METHOD:PUBLISH
X-ORIGINAL-URL:https://saticoylemon.com
X-WR-CALDESC:Events for Saticoy Lemon Association
REFRESH-INTERVAL;VALUE=DURATION:PT1H
X-Robots-Tag:noindex
X-PUBLISHED-TTL:PT1H
BEGIN:VTIMEZONE
TZID:UTC
BEGIN:STANDARD
TZOFFSETFROM:+0000
TZOFFSETTO:+0000
TZNAME:UTC
DTSTART:20250101T000000
END:STANDARD
END:VTIMEZONE
BEGIN:VEVENT
DTSTART;VALUE=DATE:20260926
DTEND;VALUE=DATE:20260927
DTSTAMP:20260421T125806
CREATED:20260114T181512Z
LAST-MODIFIED:20260114T181512Z
UID:839-1790380800-1790467199@saticoylemon.com
SUMMARY:End Receiving D2 Pool 2620000
DESCRIPTION:District 2 Season Pool 2620000 9/28/25 – 9/26/26
URL:https://saticoylemon.com/event/end-receiving-d2-pool-2620000/
CATEGORIES:District 2
END:VEVENT
BEGIN:VEVENT
DTSTART;TZID=UTC:20261015T080000
DTEND;TZID=UTC:20261015T170000
DTSTAMP:20260421T125806
CREATED:20260114T183117Z
LAST-MODIFIED:20260114T185024Z
UID:847-1792051200-1792083600@saticoylemon.com
SUMMARY:D2 Season 2620000 Fourth Advance Anticipated Check Date
DESCRIPTION:Anticipated check date only
URL:https://saticoylemon.com/event/d2-season-2620000-forth-advance-anticipated-check-date/
CATEGORIES:District 2
END:VEVENT
BEGIN:VEVENT
DTSTART;TZID=UTC:20261015T080000
DTEND;TZID=UTC:20261015T170000
DTSTAMP:20260421T125806
CREATED:20260114T191255Z
LAST-MODIFIED:20260114T191255Z
UID:1006-1792051200-1792083600@saticoylemon.com
SUMMARY:D3 2634404 Fourth Advance Anticipated Check Date
DESCRIPTION:Anticipated check date only
URL:https://saticoylemon.com/event/d3-2634404-fourth-advance-anticipated-check-date/
CATEGORIES:District 3,Meyers
END:VEVENT
BEGIN:VEVENT
DTSTART;VALUE=DATE:20261031
DTEND;VALUE=DATE:20261101
DTSTAMP:20260421T125806
CREATED:20260114T182155Z
LAST-MODIFIED:20260114T190249Z
UID:874-1793404800-1793491199@saticoylemon.com
SUMMARY:End Receiving D2 Meyer Pool 2624403
DESCRIPTION:District 2 Meyer Season Pool 3 2624403 6/28/26 – 10/31/26
URL:https://saticoylemon.com/event/end-receiving-d2-meyer-pool-2624403/
CATEGORIES:District 2,Meyers
END:VEVENT
BEGIN:VEVENT
DTSTART;VALUE=DATE:20261031
DTEND;VALUE=DATE:20261101
DTSTAMP:20260421T125806
CREATED:20260114T182355Z
LAST-MODIFIED:20260114T182355Z
UID:880-1793404800-1793491199@saticoylemon.com
SUMMARY:End Receiving D3 Meyer Pool 2634404
DESCRIPTION:District 3 Meyer Season Pool 2624404 10/26/25 – 10/31/26
URL:https://saticoylemon.com/event/end-receiving-d3-meyer-pool-2634404/
CATEGORIES:District 3,Meyers
END:VEVENT
BEGIN:VEVENT
DTSTART;TZID=UTC:20261119T080000
DTEND;TZID=UTC:20261119T170000
DTSTAMP:20260421T125806
CREATED:20260114T175316Z
LAST-MODIFIED:20260114T175316Z
UID:968-1795075200-1795107600@saticoylemon.com
SUMMARY:D9 2699999 Third Advance Anticipated Check Date
DESCRIPTION:Anticipated check date only
URL:https://saticoylemon.com/event/d9-2699999-third-advance-anticipated-check-date/
CATEGORIES:District 9
END:VEVENT
BEGIN:VEVENT
DTSTART;TZID=UTC:20261207T080000
DTEND;TZID=UTC:20261207T170000
DTSTAMP:20260421T125806
CREATED:20260114T182956Z
LAST-MODIFIED:20260317T192713Z
UID:876-1796630400-1796662800@saticoylemon.com
SUMMARY:D2 Season 2624403 Meyer Final Anticipated Check Date
DESCRIPTION:Anticipated check date only
URL:https://saticoylemon.com/event/d3-season-2624404-meyer-final-advance-anticipated-check-date/
CATEGORIES:District 2,Meyers
END:VEVENT
BEGIN:VEVENT
DTSTART;TZID=UTC:20261207T080000
DTEND;TZID=UTC:20261207T170000
DTSTAMP:20260421T125806
CREATED:20260114T183053Z
LAST-MODIFIED:20260317T192508Z
UID:848-1796630400-1796662800@saticoylemon.com
SUMMARY:D2 Season 2620000 Final Anticipated Check Date
DESCRIPTION:Anticipated check date only
URL:https://saticoylemon.com/event/d2-season-2620000-final-advance-anticipated-check-date/
CATEGORIES:District 2
END:VEVENT
BEGIN:VEVENT
DTSTART;TZID=UTC:20261210T080000
DTEND;TZID=UTC:20261210T170000
DTSTAMP:20260421T125806
CREATED:20260114T175243Z
LAST-MODIFIED:20260114T190554Z
UID:882-1796889600-1796922000@saticoylemon.com
SUMMARY:D3 Season 2634404 Meyer Final Anticipated Check Date
DESCRIPTION:Anticipated check date only
URL:https://saticoylemon.com/event/d3-season-2634404-meyer-final-advance-anticipated-check-date/
CATEGORIES:District 3,Meyers
END:VEVENT
BEGIN:VEVENT
DTSTART;TZID=UTC:20261210T080000
DTEND;TZID=UTC:20261210T170000
DTSTAMP:20260421T125806
CREATED:20260114T185606Z
LAST-MODIFIED:20260114T191326Z
UID:992-1796889600-1796922000@saticoylemon.com
SUMMARY:D3 2630004 Final Anticipated Check Date
DESCRIPTION:Anticipated check date only
URL:https://saticoylemon.com/event/d3-2630004-final-advance-anticipated-check-date/
CATEGORIES:District 3
END:VEVENT
BEGIN:VEVENT
DTSTART;TZID=UTC:20261226T080000
DTEND;TZID=UTC:20261226T170000
DTSTAMP:20260421T125806
CREATED:20260114T175115Z
LAST-MODIFIED:20260114T175126Z
UID:962-1798272000-1798304400@saticoylemon.com
SUMMARY:End Receiving D9 Pool 2699999
DESCRIPTION:District 9 2026 Pool 2699999 12/28/25 – 12/26/26
URL:https://saticoylemon.com/event/end-receiving-d9-pool-2699999/
CATEGORIES:District 9
END:VEVENT
BEGIN:VEVENT
DTSTART;TZID=UTC:20270415T080000
DTEND;TZID=UTC:20270415T170000
DTSTAMP:20260421T125806
CREATED:20260114T175037Z
LAST-MODIFIED:20260114T191752Z
UID:970-1807776000-1807808400@saticoylemon.com
SUMMARY:D9 2699999 Final Anticipated Check Date
DESCRIPTION:Anticipated check date only
URL:https://saticoylemon.com/event/d9-2699999-final-advance-anticipated-check-date/
CATEGORIES:District 9
END:VEVENT
END:VCALENDAR