BEGIN:VCALENDAR
VERSION:2.0
PRODID:-//Saticoy Lemon Association - ECPv6.15.11//NONSGML v1.0//EN
CALSCALE:GREGORIAN
METHOD:PUBLISH
X-WR-CALNAME:Saticoy Lemon Association
X-ORIGINAL-URL:https://saticoylemon.com
X-WR-CALDESC:Events for Saticoy Lemon Association
REFRESH-INTERVAL;VALUE=DURATION:PT1H
X-Robots-Tag:noindex
X-PUBLISHED-TTL:PT1H
BEGIN:VTIMEZONE
TZID:UTC
BEGIN:STANDARD
TZOFFSETFROM:+0000
TZOFFSETTO:+0000
TZNAME:UTC
DTSTART:20240101T000000
END:STANDARD
END:VTIMEZONE
BEGIN:VEVENT
DTSTART;TZID=UTC:20251101T080000
DTEND;TZID=UTC:20251101T170000
DTSTAMP:20260421T145035
CREATED:20260114T182754Z
LAST-MODIFIED:20260114T182754Z
UID:902-1761984000-1762016400@saticoylemon.com
SUMMARY:End Receiving D3 Pool 2630002
DESCRIPTION:District 3 September/October Pool 2630002 8/31/25 – 11/01/25
URL:https://saticoylemon.com/event/end-receiving-d3-pool-2630002/
CATEGORIES:District 3
END:VEVENT
BEGIN:VEVENT
DTSTART;TZID=UTC:20251102T080000
DTEND;TZID=UTC:20251102T170000
DTSTAMP:20260421T145035
CREATED:20260114T180015Z
LAST-MODIFIED:20260114T180015Z
UID:944-1762070400-1762102800@saticoylemon.com
SUMMARY:Begin Receiving D3 Pool 2630003
DESCRIPTION:District 3 November/December Pool 2630003 11/02/25 – 12/27/25
URL:https://saticoylemon.com/event/begin-receiving-d3-pool-2630003/
CATEGORIES:District 3
END:VEVENT
END:VCALENDAR