BEGIN:VCALENDAR
VERSION:2.0
PRODID:-//Saticoy Lemon Association - ECPv6.15.11//NONSGML v1.0//EN
CALSCALE:GREGORIAN
METHOD:PUBLISH
X-ORIGINAL-URL:https://saticoylemon.com
X-WR-CALDESC:Events for Saticoy Lemon Association
REFRESH-INTERVAL;VALUE=DURATION:PT1H
X-Robots-Tag:noindex
X-PUBLISHED-TTL:PT1H
BEGIN:VTIMEZONE
TZID:UTC
BEGIN:STANDARD
TZOFFSETFROM:+0000
TZOFFSETTO:+0000
TZNAME:UTC
DTSTART:20250101T000000
END:STANDARD
END:VTIMEZONE
BEGIN:VEVENT
DTSTART;TZID=UTC:20260820T080000
DTEND;TZID=UTC:20260820T170000
DTSTAMP:20260421T125315
CREATED:20260114T180049Z
LAST-MODIFIED:20260114T192103Z
UID:835-1787212800-1787245200@saticoylemon.com
SUMMARY:D1 Late 2610030 Final Anticipated Check Date
DESCRIPTION:Anticipated check date only
URL:https://saticoylemon.com/event/d1-late-2610030-final-advance-anticipated-check-date/
CATEGORIES:District 1
END:VEVENT
BEGIN:VEVENT
DTSTART;TZID=UTC:20260820T080000
DTEND;TZID=UTC:20260820T170000
DTSTAMP:20260421T125315
CREATED:20260114T182531Z
LAST-MODIFIED:20260114T182531Z
UID:868-1787212800-1787245200@saticoylemon.com
SUMMARY:D2 2624402 Meyer First Advance Anticipated Check Date
DESCRIPTION:Anticipated check date only
URL:https://saticoylemon.com/event/d2-2624402-meyer-first-advance-anticipated-check-date/
CATEGORIES:District 2,Meyers
END:VEVENT
BEGIN:VEVENT
DTSTART;TZID=UTC:20260820T080000
DTEND;TZID=UTC:20260820T170000
DTSTAMP:20260421T125315
CREATED:20260114T191148Z
LAST-MODIFIED:20260114T191148Z
UID:1004-1787212800-1787245200@saticoylemon.com
SUMMARY:D3 2634404 Third Advance Anticipated Check Date
DESCRIPTION:Anticipated check date only
URL:https://saticoylemon.com/event/d3-2634404-third-advance-anticipated-check-date/
CATEGORIES:District 3,Meyers
END:VEVENT
END:VCALENDAR